Package: DegCre Version: 1.3.0 Command: /Library/Frameworks/R.framework/Resources/bin/R CMD INSTALL DegCre StartedAt: 2025-02-09 15:19:23 -0500 (Sun, 09 Feb 2025) EndedAt: 2025-02-09 15:20:20 -0500 (Sun, 09 Feb 2025) EllapsedTime: 57.4 seconds RetCode: 0 Status: OK