Package: DegCre Version: 1.3.0 Command: /home/biocbuild/bbs-3.21-bioc/R/bin/R CMD build --keep-empty-dirs --no-resave-data DegCre StartedAt: 2025-02-09 16:56:01 -0500 (Sun, 09 Feb 2025) EndedAt: 2025-02-09 16:57:29 -0500 (Sun, 09 Feb 2025) EllapsedTime: 88.2 seconds RetCode: 0 Status: OK PackageFile: DegCre_1.3.0.tar.gz PackageFileSize: 2.289 MiB