Package: DegCre Version: 1.3.0 Command: /home/biocbuild/bbs-3.21-bioc/R/bin/R CMD check --install=check:DegCre.install-out.txt --library=/home/biocbuild/bbs-3.21-bioc/R/site-library --timings DegCre_1.3.0.tar.gz StartedAt: 2025-02-09 21:34:22 -0500 (Sun, 09 Feb 2025) EndedAt: 2025-02-09 21:41:43 -0500 (Sun, 09 Feb 2025) EllapsedTime: 440.5 seconds RetCode: 0 Status: OK CheckDir: DegCre.Rcheck Warnings: 0