Package: DegCre Version: 1.3.0 Command: /home/biocbuild/bbs-3.21-bioc/R/bin/R CMD INSTALL DegCre StartedAt: 2025-02-09 15:41:40 -0500 (Sun, 09 Feb 2025) EndedAt: 2025-02-09 15:42:25 -0500 (Sun, 09 Feb 2025) EllapsedTime: 44.3 seconds RetCode: 0 Status: OK