Package: DegCre Version: 1.3.0 Command: chmod a+r DegCre -R && E:\biocbuild\bbs-3.21-bioc\R\bin\R.exe CMD build --keep-empty-dirs --no-resave-data DegCre StartedAt: 2025-02-09 18:14:47 -0500 (Sun, 09 Feb 2025) EndedAt: 2025-02-09 18:16:56 -0500 (Sun, 09 Feb 2025) EllapsedTime: 128.2 seconds RetCode: 0 Status: OK PackageFile: DegCre_1.3.0.tar.gz PackageFileSize: 2.034 MiB