Package: DegCre Version: 1.3.0 Command: E:\biocbuild\bbs-3.21-bioc\R\bin\R.exe CMD INSTALL DegCre StartedAt: 2025-02-03 16:38:17 -0500 (Mon, 03 Feb 2025) EndedAt: 2025-02-03 16:39:23 -0500 (Mon, 03 Feb 2025) EllapsedTime: 65.6 seconds RetCode: 0 Status: OK