Package: DegNorm Version: 1.17.0 Command: /home/biocbuild/bbs-3.21-bioc/R/bin/R CMD build --keep-empty-dirs --no-resave-data DegNorm StartedAt: 2025-02-09 16:56:02 -0500 (Sun, 09 Feb 2025) EndedAt: 2025-02-09 17:01:09 -0500 (Sun, 09 Feb 2025) EllapsedTime: 306.4 seconds RetCode: 0 Status: OK PackageFile: DegNorm_1.17.0.tar.gz PackageFileSize: 3.368 MiB