Package: DegNorm Version: 1.17.0 Command: /home/biocbuild/bbs-3.21-bioc/R/bin/R CMD check --install=check:DegNorm.install-out.txt --library=/home/biocbuild/bbs-3.21-bioc/R/site-library --timings DegNorm_1.17.0.tar.gz StartedAt: 2025-02-09 21:35:22 -0500 (Sun, 09 Feb 2025) EndedAt: 2025-02-09 21:46:35 -0500 (Sun, 09 Feb 2025) EllapsedTime: 674.0 seconds RetCode: 0 Status: OK CheckDir: DegNorm.Rcheck Warnings: 0