Package: DegNorm Version: 1.17.0 Command: E:\biocbuild\bbs-3.21-bioc\R\bin\R.exe CMD check --no-multiarch --install=check:DegNorm.install-out.txt --library=E:\biocbuild\bbs-3.21-bioc\R\library --no-vignettes --timings DegNorm_1.17.0.tar.gz StartedAt: 2025-02-10 00:18:01 -0500 (Mon, 10 Feb 2025) EndedAt: 2025-02-10 00:26:17 -0500 (Mon, 10 Feb 2025) EllapsedTime: 495.1 seconds RetCode: 0 Status: OK CheckDir: DegNorm.Rcheck Warnings: 0