Package: DelayedArray Version: 0.33.5 Command: rm -rf DelayedArray.buildbin-libdir && mkdir DelayedArray.buildbin-libdir && /Users/biocbuild/BBS/utils/build-universal.sh DelayedArray_0.33.5.tar.gz /Library/Frameworks/R.framework/Resources/bin/R DelayedArray.buildbin-libdir StartedAt: 2025-02-09 22:11:54 -0500 (Sun, 09 Feb 2025) EndedAt: 2025-02-09 22:12:07 -0500 (Sun, 09 Feb 2025) EllapsedTime: 13.3 seconds RetCode: 0 Status: OK PackageFile: DelayedArray_0.33.5.tgz PackageFileSize: 2.439 MiB