Package: DelayedArray Version: 0.33.5 Command: /Library/Frameworks/R.framework/Resources/bin/R CMD build --keep-empty-dirs --no-resave-data DelayedArray StartedAt: 2025-02-12 16:28:13 -0500 (Wed, 12 Feb 2025) EndedAt: 2025-02-12 16:29:29 -0500 (Wed, 12 Feb 2025) EllapsedTime: 76.5 seconds RetCode: 0 Status: OK PackageFile: DelayedArray_0.33.5.tar.gz PackageFileSize: 793.2 KiB