Package: DelayedArray Version: 0.33.5 Command: /Library/Frameworks/R.framework/Resources/bin/R CMD INSTALL DelayedArray StartedAt: 2025-02-12 15:08:01 -0500 (Wed, 12 Feb 2025) EndedAt: 2025-02-12 15:08:34 -0500 (Wed, 12 Feb 2025) EllapsedTime: 33.5 seconds RetCode: 0 Status: OK