Package: DelayedArray Version: 0.33.5 Command: chmod a+r DelayedArray -R && E:\biocbuild\bbs-3.21-bioc\R\bin\R.exe CMD build --keep-empty-dirs --no-resave-data DelayedArray StartedAt: 2025-02-09 18:15:38 -0500 (Sun, 09 Feb 2025) EndedAt: 2025-02-09 18:17:43 -0500 (Sun, 09 Feb 2025) EllapsedTime: 125.3 seconds RetCode: 0 Status: OK PackageFile: DelayedArray_0.33.5.tar.gz PackageFileSize: 610.9 KiB