Package: DelayedArray Version: 0.33.5 Command: set _R_CHECK_CODETOOLS_PROFILE_='suppressFundefMismatch=TRUE'&& E:\biocbuild\bbs-3.21-bioc\R\bin\R.exe CMD check --no-multiarch --install=check:DelayedArray.install-out.txt --library=E:\biocbuild\bbs-3.21-bioc\R\library --no-vignettes --timings DelayedArray_0.33.5.tar.gz StartedAt: 2025-02-13 00:28:26 -0500 (Thu, 13 Feb 2025) EndedAt: 2025-02-13 01:01:14 -0500 (Thu, 13 Feb 2025) EllapsedTime: 1967.5 seconds RetCode: 0 Status: WARNINGS CheckDir: DelayedArray.Rcheck Warnings: 1