Package: DelayedDataFrame Version: 1.23.0 Command: /Library/Frameworks/R.framework/Resources/bin/R CMD check --install=check:DelayedDataFrame.install-out.txt --library=/Library/Frameworks/R.framework/Resources/library --no-vignettes --timings DelayedDataFrame_1.23.0.tar.gz StartedAt: 2025-02-09 18:54:20 -0500 (Sun, 09 Feb 2025) EndedAt: 2025-02-09 18:55:07 -0500 (Sun, 09 Feb 2025) EllapsedTime: 47.6 seconds RetCode: 0 Status: OK CheckDir: DelayedDataFrame.Rcheck Warnings: 0