Package: DelayedDataFrame Version: 1.23.0 Command: /home/biocbuild/R/R/bin/R CMD build --keep-empty-dirs --no-resave-data DelayedDataFrame StartedAt: 2025-01-28 22:21:29 -0000 (Tue, 28 Jan 2025) EndedAt: 2025-01-28 22:22:10 -0000 (Tue, 28 Jan 2025) EllapsedTime: 41.0 seconds RetCode: 0 Status: OK PackageFile: DelayedDataFrame_1.23.0.tar.gz PackageFileSize: 551.5 KiB