Package: DelayedDataFrame Version: 1.23.0 Command: /home/biocbuild/R/R/bin/R CMD check --install=check:DelayedDataFrame.install-out.txt --library=/home/biocbuild/R/R/site-library --no-vignettes --timings DelayedDataFrame_1.23.0.tar.gz StartedAt: 2025-01-28 09:50:19 -0000 (Tue, 28 Jan 2025) EndedAt: 2025-01-28 09:53:02 -0000 (Tue, 28 Jan 2025) EllapsedTime: 162.1 seconds RetCode: 0 Status: OK CheckDir: DelayedDataFrame.Rcheck Warnings: 0