Package: DelayedDataFrame Version: 1.23.0 Command: /home/biocbuild/R/R/bin/R CMD INSTALL DelayedDataFrame StartedAt: 2025-01-29 19:37:15 -0000 (Wed, 29 Jan 2025) EndedAt: 2025-01-29 19:37:41 -0000 (Wed, 29 Jan 2025) EllapsedTime: 26.1 seconds RetCode: 0 Status: OK