Package: DelayedDataFrame Version: 1.23.0 Command: rm -rf DelayedDataFrame.buildbin-libdir && mkdir DelayedDataFrame.buildbin-libdir && /Users/biocbuild/BBS/utils/build-universal.sh DelayedDataFrame_1.23.0.tar.gz /Library/Frameworks/R.framework/Resources/bin/R DelayedDataFrame.buildbin-libdir StartedAt: 2025-02-10 00:49:57 -0500 (Mon, 10 Feb 2025) EndedAt: 2025-02-10 00:50:26 -0500 (Mon, 10 Feb 2025) EllapsedTime: 28.8 seconds RetCode: 0 Status: OK PackageFile: DelayedDataFrame_1.23.0.tgz PackageFileSize: 918.6 KiB