Package: DelayedDataFrame Version: 1.23.0 Command: /home/biocbuild/bbs-3.21-bioc/R/bin/R CMD INSTALL DelayedDataFrame StartedAt: 2025-02-04 15:21:23 -0500 (Tue, 04 Feb 2025) EndedAt: 2025-02-04 15:21:40 -0500 (Tue, 04 Feb 2025) EllapsedTime: 17.1 seconds RetCode: 0 Status: OK