Package: DelayedMatrixStats Version: 1.29.1 Command: /Library/Frameworks/R.framework/Resources/bin/R CMD INSTALL DelayedMatrixStats StartedAt: 2025-02-09 15:11:41 -0500 (Sun, 09 Feb 2025) EndedAt: 2025-02-09 15:12:09 -0500 (Sun, 09 Feb 2025) EllapsedTime: 27.9 seconds RetCode: 0 Status: OK