Package: DelayedMatrixStats Version: 1.29.1 Command: /home/biocbuild/bbs-3.21-bioc/R/bin/R CMD check --install=check:DelayedMatrixStats.install-out.txt --library=/home/biocbuild/bbs-3.21-bioc/R/site-library --timings DelayedMatrixStats_1.29.1.tar.gz StartedAt: 2025-02-09 21:37:41 -0500 (Sun, 09 Feb 2025) EndedAt: 2025-02-09 21:45:04 -0500 (Sun, 09 Feb 2025) EllapsedTime: 443.6 seconds RetCode: 1 Status: ERROR CheckDir: DelayedMatrixStats.Rcheck Warnings: NA