Package: DelayedMatrixStats Version: 1.29.1 Command: /home/biocbuild/bbs-3.21-bioc/R/bin/R CMD INSTALL DelayedMatrixStats StartedAt: 2025-02-12 15:17:06 -0500 (Wed, 12 Feb 2025) EndedAt: 2025-02-12 15:17:27 -0500 (Wed, 12 Feb 2025) EllapsedTime: 21.3 seconds RetCode: 0 Status: OK