Package: DelayedMatrixStats Version: 1.29.1 Command: rm -rf DelayedMatrixStats.buildbin-libdir && mkdir DelayedMatrixStats.buildbin-libdir && E:\biocbuild\bbs-3.21-bioc\R\bin\R.exe CMD INSTALL --build --library=DelayedMatrixStats.buildbin-libdir DelayedMatrixStats_1.29.1.tar.gz StartedAt: 2025-02-10 07:36:20 -0500 (Mon, 10 Feb 2025) EndedAt: 2025-02-10 07:40:41 -0500 (Mon, 10 Feb 2025) EllapsedTime: 260.2 seconds RetCode: 0 Status: OK PackageFile: DelayedMatrixStats_1.29.1.zip PackageFileSize: 730.6 KiB