Package: DepecheR Version: 1.23.0 Command: rm -rf DepecheR.buildbin-libdir && mkdir DepecheR.buildbin-libdir && /Users/biocbuild/BBS/utils/build-universal.sh DepecheR_1.23.0.tar.gz /Library/Frameworks/R.framework/Resources/bin/R DepecheR.buildbin-libdir StartedAt: 2025-02-10 22:13:47 -0500 (Mon, 10 Feb 2025) EndedAt: 2025-02-10 22:13:58 -0500 (Mon, 10 Feb 2025) EllapsedTime: 11.3 seconds RetCode: 0 Status: OK PackageFile: DepecheR_1.23.0.tgz PackageFileSize: 2.741 MiB