Package: DepecheR Version: 1.23.0 Command: /Library/Frameworks/R.framework/Resources/bin/R CMD build --keep-empty-dirs --no-resave-data DepecheR StartedAt: 2025-02-09 16:06:55 -0500 (Sun, 09 Feb 2025) EndedAt: 2025-02-09 16:07:16 -0500 (Sun, 09 Feb 2025) EllapsedTime: 20.2 seconds RetCode: 0 Status: OK PackageFile: DepecheR_1.23.0.tar.gz PackageFileSize: 2.561 MiB