Package: DepecheR Version: 1.23.0 Command: /Library/Frameworks/R.framework/Resources/bin/R CMD check --install=check:DepecheR.install-out.txt --library=/Library/Frameworks/R.framework/Resources/library --no-vignettes --timings DepecheR_1.23.0.tar.gz StartedAt: 2025-02-10 18:56:26 -0500 (Mon, 10 Feb 2025) EndedAt: 2025-02-10 18:57:15 -0500 (Mon, 10 Feb 2025) EllapsedTime: 48.6 seconds RetCode: 0 Status: OK CheckDir: DepecheR.Rcheck Warnings: 0