Package: DepecheR Version: 1.23.0 Command: /Library/Frameworks/R.framework/Resources/bin/R CMD INSTALL DepecheR StartedAt: 2025-02-09 15:15:04 -0500 (Sun, 09 Feb 2025) EndedAt: 2025-02-09 15:15:13 -0500 (Sun, 09 Feb 2025) EllapsedTime: 9.0 seconds RetCode: 0 Status: OK