Package: DepecheR Version: 1.23.0 Command: /home/biocbuild/R/R/bin/R CMD build --keep-empty-dirs --no-resave-data DepecheR StartedAt: 2025-01-28 22:25:05 -0000 (Tue, 28 Jan 2025) EndedAt: 2025-01-28 22:26:18 -0000 (Tue, 28 Jan 2025) EllapsedTime: 73.0 seconds RetCode: 0 Status: OK PackageFile: DepecheR_1.23.0.tar.gz PackageFileSize: 2.686 MiB