Package: DepecheR Version: 1.23.0 Command: /home/biocbuild/R/R/bin/R CMD check --install=check:DepecheR.install-out.txt --library=/home/biocbuild/R/R/site-library --no-vignettes --timings DepecheR_1.23.0.tar.gz StartedAt: 2025-01-28 09:54:05 -0000 (Tue, 28 Jan 2025) EndedAt: 2025-01-28 09:56:37 -0000 (Tue, 28 Jan 2025) EllapsedTime: 152.3 seconds RetCode: 0 Status: WARNINGS CheckDir: DepecheR.Rcheck Warnings: 1