Package: DepecheR Version: 1.23.0 Command: /home/biocbuild/R/R/bin/R CMD INSTALL DepecheR StartedAt: 2025-01-29 20:05:52 -0000 (Wed, 29 Jan 2025) EndedAt: 2025-01-29 20:06:38 -0000 (Wed, 29 Jan 2025) EllapsedTime: 46.0 seconds RetCode: 0 Status: OK