Package: DepecheR Version: 1.23.0 Command: /home/biocbuild/bbs-3.21-bioc/R/bin/R CMD build --keep-empty-dirs --no-resave-data DepecheR StartedAt: 2025-02-09 16:58:10 -0500 (Sun, 09 Feb 2025) EndedAt: 2025-02-09 16:59:04 -0500 (Sun, 09 Feb 2025) EllapsedTime: 54.0 seconds RetCode: 0 Status: OK PackageFile: DepecheR_1.23.0.tar.gz PackageFileSize: 2.561 MiB