Package: DepecheR Version: 1.23.0 Command: /home/biocbuild/bbs-3.21-bioc/R/bin/R CMD check --install=check:DepecheR.install-out.txt --library=/home/biocbuild/bbs-3.21-bioc/R/site-library --timings DepecheR_1.23.0.tar.gz StartedAt: 2025-02-09 21:41:40 -0500 (Sun, 09 Feb 2025) EndedAt: 2025-02-09 21:44:28 -0500 (Sun, 09 Feb 2025) EllapsedTime: 168.2 seconds RetCode: 0 Status: OK CheckDir: DepecheR.Rcheck Warnings: 0