Package: DepecheR Version: 1.23.0 Command: rm -rf DepecheR.buildbin-libdir && mkdir DepecheR.buildbin-libdir && E:\biocbuild\bbs-3.21-bioc\R\bin\R.exe CMD INSTALL --build --library=DepecheR.buildbin-libdir DepecheR_1.23.0.tar.gz StartedAt: 2025-02-10 07:36:59 -0500 (Mon, 10 Feb 2025) EndedAt: 2025-02-10 07:37:40 -0500 (Mon, 10 Feb 2025) EllapsedTime: 41.1 seconds RetCode: 0 Status: OK PackageFile: DepecheR_1.23.0.zip PackageFileSize: 3.047 MiB