Package: DepecheR Version: 1.23.0 Command: chmod a+r DepecheR -R && E:\biocbuild\bbs-3.21-bioc\R\bin\R.exe CMD build --keep-empty-dirs --no-resave-data DepecheR StartedAt: 2025-02-09 18:17:44 -0500 (Sun, 09 Feb 2025) EndedAt: 2025-02-09 18:18:54 -0500 (Sun, 09 Feb 2025) EllapsedTime: 69.9 seconds RetCode: 0 Status: OK PackageFile: DepecheR_1.23.0.tar.gz PackageFileSize: 2.561 MiB