Package: DepecheR Version: 1.23.0 Command: E:\biocbuild\bbs-3.21-bioc\R\bin\R.exe CMD check --no-multiarch --install=check:DepecheR.install-out.txt --library=E:\biocbuild\bbs-3.21-bioc\R\library --no-vignettes --timings DepecheR_1.23.0.tar.gz StartedAt: 2025-02-13 00:34:37 -0500 (Thu, 13 Feb 2025) EndedAt: 2025-02-13 00:37:23 -0500 (Thu, 13 Feb 2025) EllapsedTime: 165.6 seconds RetCode: 0 Status: OK CheckDir: DepecheR.Rcheck Warnings: 0