Package: DiffBind Version: 3.17.3 Command: rm -rf DiffBind.buildbin-libdir && mkdir DiffBind.buildbin-libdir && /Users/biocbuild/BBS/utils/build-universal.sh DiffBind_3.17.3.tar.gz /Library/Frameworks/R.framework/Resources/bin/R DiffBind.buildbin-libdir StartedAt: 2025-02-09 22:12:17 -0500 (Sun, 09 Feb 2025) EndedAt: 2025-02-09 22:12:49 -0500 (Sun, 09 Feb 2025) EllapsedTime: 32.6 seconds RetCode: 0 Status: OK PackageFile: DiffBind_3.17.3.tgz PackageFileSize: 7.06 MiB