Package: DiffBind Version: 3.17.3 Command: /Library/Frameworks/R.framework/Resources/bin/R CMD INSTALL DiffBind StartedAt: 2025-02-09 15:26:02 -0500 (Sun, 09 Feb 2025) EndedAt: 2025-02-09 15:27:42 -0500 (Sun, 09 Feb 2025) EllapsedTime: 100.6 seconds RetCode: 0 Status: OK