Package: DiffBind Version: 3.17.3 Command: /home/biocbuild/bbs-3.21-bioc/R/bin/R CMD INSTALL DiffBind StartedAt: 2025-02-09 15:54:22 -0500 (Sun, 09 Feb 2025) EndedAt: 2025-02-09 15:55:35 -0500 (Sun, 09 Feb 2025) EllapsedTime: 72.9 seconds RetCode: 0 Status: OK