Package: DiffBind Version: 3.17.3 Command: chmod a+r DiffBind -R && E:\biocbuild\bbs-3.21-bioc\R\bin\R.exe CMD build --keep-empty-dirs --no-resave-data DiffBind StartedAt: 2025-02-12 18:24:34 -0500 (Wed, 12 Feb 2025) EndedAt: 2025-02-12 18:29:37 -0500 (Wed, 12 Feb 2025) EllapsedTime: 302.5 seconds RetCode: 0 Status: OK PackageFile: DiffBind_3.17.3.tar.gz PackageFileSize: 6.489 MiB