Package: DiffBind Version: 3.17.3 Command: E:\biocbuild\bbs-3.21-bioc\R\bin\R.exe CMD check --no-multiarch --install=check:DiffBind.install-out.txt --library=E:\biocbuild\bbs-3.21-bioc\R\library --no-vignettes --timings DiffBind_3.17.3.tar.gz StartedAt: 2025-02-10 00:30:13 -0500 (Mon, 10 Feb 2025) EndedAt: 2025-02-10 00:42:07 -0500 (Mon, 10 Feb 2025) EllapsedTime: 714.1 seconds RetCode: 0 Status: OK CheckDir: DiffBind.Rcheck Warnings: 0