Package: DiffLogo Version: 2.31.0 Command: rm -rf DiffLogo.buildbin-libdir && mkdir DiffLogo.buildbin-libdir && /Users/biocbuild/BBS/utils/build-universal.sh DiffLogo_2.31.0.tar.gz /Library/Frameworks/R.framework/Resources/bin/R DiffLogo.buildbin-libdir StartedAt: 2025-02-09 22:12:26 -0500 (Sun, 09 Feb 2025) EndedAt: 2025-02-09 22:12:28 -0500 (Sun, 09 Feb 2025) EllapsedTime: 2.0 seconds RetCode: 0 Status: OK PackageFile: DiffLogo_2.31.0.tgz PackageFileSize: 1.062 MiB