Package: DiffLogo Version: 2.31.0 Command: /Library/Frameworks/R.framework/Resources/bin/R CMD build --keep-empty-dirs --no-resave-data DiffLogo StartedAt: 2025-02-09 16:08:31 -0500 (Sun, 09 Feb 2025) EndedAt: 2025-02-09 16:08:53 -0500 (Sun, 09 Feb 2025) EllapsedTime: 21.2 seconds RetCode: 0 Status: OK PackageFile: DiffLogo_2.31.0.tar.gz PackageFileSize: 919.7 KiB