Package: DiffLogo Version: 2.31.0 Command: /home/biocbuild/R/R/bin/R CMD build --keep-empty-dirs --no-resave-data DiffLogo StartedAt: 2025-01-28 22:28:48 -0000 (Tue, 28 Jan 2025) EndedAt: 2025-01-28 22:29:49 -0000 (Tue, 28 Jan 2025) EllapsedTime: 61.0 seconds RetCode: 0 Status: OK PackageFile: DiffLogo_2.31.0.tar.gz PackageFileSize: 913.2 KiB