Package: DiffLogo Version: 2.31.0 Command: /home/biocbuild/R/R/bin/R CMD INSTALL DiffLogo StartedAt: 2025-01-29 19:34:13 -0000 (Wed, 29 Jan 2025) EndedAt: 2025-01-29 19:34:25 -0000 (Wed, 29 Jan 2025) EllapsedTime: 12.6 seconds RetCode: 0 Status: OK