Package: DiffLogo Version: 2.31.0 Command: /Library/Frameworks/R.framework/Resources/bin/R CMD build --keep-empty-dirs --no-resave-data DiffLogo StartedAt: 2025-02-03 16:36:06 -0500 (Mon, 03 Feb 2025) EndedAt: 2025-02-03 16:37:02 -0500 (Mon, 03 Feb 2025) EllapsedTime: 56.0 seconds RetCode: 0 Status: OK PackageFile: DiffLogo_2.31.0.tar.gz PackageFileSize: 919.6 KiB