Package: DiffLogo Version: 2.31.0 Command: /home/biocbuild/bbs-3.21-bioc/R/bin/R CMD build --keep-empty-dirs --no-resave-data DiffLogo StartedAt: 2025-02-04 16:59:16 -0500 (Tue, 04 Feb 2025) EndedAt: 2025-02-04 16:59:59 -0500 (Tue, 04 Feb 2025) EllapsedTime: 43.0 seconds RetCode: 0 Status: OK PackageFile: DiffLogo_2.31.0.tar.gz PackageFileSize: 919.5 KiB