Package: DiffLogo Version: 2.31.0 Command: /home/biocbuild/bbs-3.21-bioc/R/bin/R CMD check --install=check:DiffLogo.install-out.txt --library=/home/biocbuild/bbs-3.21-bioc/R/site-library --timings DiffLogo_2.31.0.tar.gz StartedAt: 2025-02-04 21:45:38 -0500 (Tue, 04 Feb 2025) EndedAt: 2025-02-04 21:46:45 -0500 (Tue, 04 Feb 2025) EllapsedTime: 67.0 seconds RetCode: 0 Status: WARNINGS CheckDir: DiffLogo.Rcheck Warnings: 1