Package: DiffLogo Version: 2.31.0 Command: rm -rf DiffLogo.buildbin-libdir && mkdir DiffLogo.buildbin-libdir && E:\biocbuild\bbs-3.21-bioc\R\bin\R.exe CMD INSTALL --build --library=DiffLogo.buildbin-libdir DiffLogo_2.31.0.tar.gz StartedAt: 2025-02-10 07:38:02 -0500 (Mon, 10 Feb 2025) EndedAt: 2025-02-10 07:38:26 -0500 (Mon, 10 Feb 2025) EllapsedTime: 24.2 seconds RetCode: 0 Status: OK PackageFile: DiffLogo_2.31.0.zip PackageFileSize: 978.6 KiB