Package: DiffLogo Version: 2.31.0 Command: chmod a+r DiffLogo -R && E:\biocbuild\bbs-3.21-bioc\R\bin\R.exe CMD build --keep-empty-dirs --no-resave-data DiffLogo StartedAt: 2025-02-09 18:22:14 -0500 (Sun, 09 Feb 2025) EndedAt: 2025-02-09 18:23:30 -0500 (Sun, 09 Feb 2025) EllapsedTime: 76.2 seconds RetCode: 0 Status: OK PackageFile: DiffLogo_2.31.0.tar.gz PackageFileSize: 817.2 KiB